BEGIN:VCALENDAR
VERSION:2.0
PRODID:-//Southwestern Minnesota Synod ELCA - ECPv6.15.20//NONSGML v1.0//EN
CALSCALE:GREGORIAN
METHOD:PUBLISH
X-WR-CALNAME:Southwestern Minnesota Synod ELCA
X-ORIGINAL-URL:https://swmnelca.org
X-WR-CALDESC:Events for Southwestern Minnesota Synod ELCA
REFRESH-INTERVAL;VALUE=DURATION:PT1H
X-Robots-Tag:noindex
X-PUBLISHED-TTL:PT1H
BEGIN:VTIMEZONE
TZID:America/Chicago
BEGIN:DAYLIGHT
TZOFFSETFROM:-0600
TZOFFSETTO:-0500
TZNAME:CDT
DTSTART:20250309T080000
END:DAYLIGHT
BEGIN:STANDARD
TZOFFSETFROM:-0500
TZOFFSETTO:-0600
TZNAME:CST
DTSTART:20251102T070000
END:STANDARD
BEGIN:DAYLIGHT
TZOFFSETFROM:-0600
TZOFFSETTO:-0500
TZNAME:CDT
DTSTART:20260308T080000
END:DAYLIGHT
BEGIN:STANDARD
TZOFFSETFROM:-0500
TZOFFSETTO:-0600
TZNAME:CST
DTSTART:20261101T070000
END:STANDARD
BEGIN:DAYLIGHT
TZOFFSETFROM:-0600
TZOFFSETTO:-0500
TZNAME:CDT
DTSTART:20270314T080000
END:DAYLIGHT
BEGIN:STANDARD
TZOFFSETFROM:-0500
TZOFFSETTO:-0600
TZNAME:CST
DTSTART:20271107T070000
END:STANDARD
END:VTIMEZONE
BEGIN:VEVENT
DTSTART;TZID=America/Chicago:20260502T073000
DTEND;TZID=America/Chicago:20260502T073000
DTSTAMP:20260425T100935
CREATED:20260416T200941Z
LAST-MODIFIED:20260416T201043Z
UID:23601-1777707000-1777707000@swmnelca.org
SUMMARY:Lutheran Men in Mission Spring Retreat
DESCRIPTION:Date: May 2\, 2026\nSite: Calvary Lutheran Church\, Willmar \nLiving with All: Be a peacemaker in a time of division\n“If it is possible\, as far as it depends on you\, live at peace with everyone.” – Romans 12:18\nSpeaker: Rev. Dr. Darrell Jodock \n  \nSchedule\n7:30am – Loading Lutheran World Relief Quilts\n8:00 – Registration / Rolls and Coffee / Visit Display Tables\n9:00 – Welcome and Joint Worship with the Women of the ELCA (WELCA)\n10:00 – LMM Program\, Speaker: Rev. Dr. Darrell Jodock\nDarrell Jodock is an ordained pastor in the Evangelical Lutheran Church of America and is Professor Emeritus at Gustavus Adolphus College where he served as the Drell and Adeline Bernhardson Distinguished Professor of Religion.\nNoon – Joint Lunch with WELCA\n1:00pm – Business Meeting\n1:45 – Break\n2:00 – Break Out Session / Bible Study / Fellowship\n3:15 – Evaluation / Final Remarks / Closing Prayer\n3:30 – Departure \nTo register please fill out the registration form and mail to: LMM Treasurer\, Reynold Dittbenner at 24533 State Hwy 4\, Sleepy Eye\, MN 56085.\nCell: 507-220-0185.\nCost: $25 per person\nOfferings and donations to LMM will be used for promoting LMM men’s ministries in the SW MN Synod. Even if you are not able to participate in the Spring Gathering donations are appreciated. Please mail your gift to Reynold Dittbenner at the address above. \n 
URL:https://swmnelca.org/event/lutheran-men-in-mission-spring-retreat/
END:VEVENT
END:VCALENDAR